BEGIN:VCALENDAR
VERSION:2.0
CALSCALE:GREGORIAN
PRODID:adamgibbons/ics
METHOD:PUBLISH
X-WR-CALNAME:Queerer Kalender
X-PUBLISHED-TTL:PT1H
BEGIN:VEVENT
UID:6217c64c521bb7e29ee6c12cdbd669ffd27676ed@pronouns.page
SUMMARY:Pride-Monat
DTSTAMP:20260421T082818Z
DTSTART;VALUE=DATE:20250601
DTEND;VALUE=DATE:20250701
SEQUENCE:1
END:VEVENT
BEGIN:VEVENT
UID:b8061160c405a43e3fc90ac68cb153c4ba8a7299@pronouns.page
SUMMARY:Transgeschlechtlicher Bewusstseinsmonat
DTSTAMP:20260421T082818Z
DTSTART;VALUE=DATE:20251101
DTEND;VALUE=DATE:20251201
SEQUENCE:1
END:VEVENT
BEGIN:VEVENT
UID:e8975eb197da6d748d59ec62f5b16dcfa521cc7d@pronouns.page
SUMMARY:Monat zur Sichtbarkeit bisexueller Gesundheit
DTSTAMP:20260421T082818Z
DTSTART;VALUE=DATE:20250301
DTEND;VALUE=DATE:20250401
SEQUENCE:1
END:VEVENT
BEGIN:VEVENT
UID:309df5e94ceba89a527767a45bddb31d1ab6afd8@pronouns.page
SUMMARY:Aromantischer Bewusstseinsmonat
DTSTAMP:20260421T082818Z
DTSTART;VALUE=DATE:20250201
DTEND;VALUE=DATE:20250301
SEQUENCE:1
END:VEVENT
BEGIN:VEVENT
UID:419d3b6f9c018cc46ffc87f468575dc0e0035291@pronouns.page
SUMMARY:Monat der Suizidprävention
DTSTAMP:20260421T082818Z
DTSTART;VALUE=DATE:20250901
DTEND;VALUE=DATE:20251001
SEQUENCE:1
END:VEVENT
BEGIN:VEVENT
UID:c1156628cef3e2c03dbd40f38c6638f83c6c9077@pronouns.page
SUMMARY:AIDS-Bewusstseins-Monat
DTSTAMP:20260421T082818Z
DTSTART;VALUE=DATE:20251201
DTEND;VALUE=DATE:20260101
SEQUENCE:1
END:VEVENT
BEGIN:VEVENT
UID:9922284c43d988f30dd3cf2add173348a8abb461@pronouns.page
SUMMARY:Geschichtsmonat von trans* Menschen
DTSTAMP:20260421T082818Z
DTSTART;VALUE=DATE:20250801
DTEND;VALUE=DATE:20250901
SEQUENCE:1
END:VEVENT
BEGIN:VEVENT
UID:622def60cf4920909319c424a65ab60cab27325f@pronouns.page
SUMMARY:Monat der queeren Wut
DTSTAMP:20260421T082818Z
DTSTART;VALUE=DATE:20250701
DTEND;VALUE=DATE:20250801
SEQUENCE:1
END:VEVENT
BEGIN:VEVENT
UID:91ecf15927c7ac67f8287de2ea8bbcd8ac82453c@pronouns.page
SUMMARY:Geburtstag von pronouns.page
DTSTAMP:20260421T082818Z
DTSTART;VALUE=DATE:20250723
DTEND;VALUE=DATE:20250724
SEQUENCE:1
END:VEVENT
BEGIN:VEVENT
UID:cb92b112afbd9786286d8b9d1361024b3122cbac@pronouns.page
SUMMARY:Ageschlechtlicher Pride Tag
DTSTAMP:20260421T082818Z
DTSTART;VALUE=DATE:20250519
DTEND;VALUE=DATE:20250520
SEQUENCE:1
END:VEVENT
BEGIN:VEVENT
UID:95f93d9d803055edf999e536255d46df7f07d394@pronouns.page
SUMMARY:Internationaler Tag der Asexualität
DTSTAMP:20260421T082818Z
DTSTART;VALUE=DATE:20250406
DTEND;VALUE=DATE:20250407
SEQUENCE:1
END:VEVENT
BEGIN:VEVENT
UID:aa4f2ddc5f87ac6c1c0898644943048a7a6cb195@pronouns.page
SUMMARY:Tag der Bisexualität
DTSTAMP:20260421T082818Z
DTSTART;VALUE=DATE:20250923
DTEND;VALUE=DATE:20250924
SEQUENCE:1
END:VEVENT
BEGIN:VEVENT
UID:338ef8fda25584acd484f37145a50b4d24c84ca4@pronouns.page
SUMMARY:Internationaler Tag des Drag
DTSTAMP:20260421T082818Z
DTSTART;VALUE=DATE:20250716
DTEND;VALUE=DATE:20250717
SEQUENCE:1
END:VEVENT
BEGIN:VEVENT
UID:a4a4d4a7fcf5f3b116cf334a24a13af27b98a2de@pronouns.page
SUMMARY:Internationaler Tag gegen Homo-\, Bi-\, Inter- und Transphobie
DTSTAMP:20260421T082818Z
DTSTART;VALUE=DATE:20250517
DTEND;VALUE=DATE:20250518
SEQUENCE:1
END:VEVENT
BEGIN:VEVENT
UID:b60b95e83e570da0656daa6bdd64cd66175e4833@pronouns.page
SUMMARY:Intersexueller Bewusstseinstag
DTSTAMP:20260421T082818Z
DTSTART;VALUE=DATE:20251026
DTEND;VALUE=DATE:20251027
SEQUENCE:1
END:VEVENT
BEGIN:VEVENT
UID:08937afae8ae5e859dd16ebb4a2eec834bf6e443@pronouns.page
SUMMARY:Intersexueller Gedenktag
DTSTAMP:20260421T082818Z
DTSTART;VALUE=DATE:20251108
DTEND;VALUE=DATE:20251109
SEQUENCE:1
END:VEVENT
BEGIN:VEVENT
UID:120fda4522b028750b54f9394f39c6afc92a0043@pronouns.page
SUMMARY:Lesbentag
DTSTAMP:20260421T082818Z
DTSTART;VALUE=DATE:20251008
DTEND;VALUE=DATE:20251009
SEQUENCE:1
END:VEVENT
BEGIN:VEVENT
UID:3cdd8a642e9ec291ed0024fd7d3b59c70adb9ebd@pronouns.page
SUMMARY:Tag der lesbischen Sichtbarkeit
DTSTAMP:20260421T082818Z
DTSTART;VALUE=DATE:20250426
DTEND;VALUE=DATE:20250427
SEQUENCE:1
END:VEVENT
BEGIN:VEVENT
UID:22801283dbdd8be0b1a77b2931698b6e83be6dea@pronouns.page
SUMMARY:Coming-out-Tag
DTSTAMP:20260421T082818Z
DTSTART;VALUE=DATE:20251011
DTEND;VALUE=DATE:20251012
SEQUENCE:1
END:VEVENT
BEGIN:VEVENT
UID:fab2cdb7b27f1cbd062ae5252d7c695d37b51683@pronouns.page
SUMMARY:Internationaler Tag nichtbinärer Menschen
DTSTAMP:20260421T082818Z
DTSTART;VALUE=DATE:20250714
DTEND;VALUE=DATE:20250715
SEQUENCE:1
END:VEVENT
BEGIN:VEVENT
UID:59480720db5c809342998c9ee22c2e5dd4c0300a@pronouns.page
SUMMARY:Tag des pansexuellen und panromantischen Bewusstseins
DTSTAMP:20260421T082818Z
DTSTART;VALUE=DATE:20250524
DTEND;VALUE=DATE:20250525
SEQUENCE:1
END:VEVENT
BEGIN:VEVENT
UID:1512423333765609acdbdeb2bb1c42a156dcce6e@pronouns.page
SUMMARY:Gedenktag für die Opfer von Transphobie
DTSTAMP:20260421T082818Z
DTSTART;VALUE=DATE:20251120
DTEND;VALUE=DATE:20251121
SEQUENCE:1
END:VEVENT
BEGIN:VEVENT
UID:171a3538ff9cb0ad20dde9d5a64917d896a75279@pronouns.page
SUMMARY:Internationaler Tag für Trans-Sichtbarkeit
DTSTAMP:20260421T082818Z
DTSTART;VALUE=DATE:20250331
DTEND;VALUE=DATE:20250401
SEQUENCE:1
END:VEVENT
BEGIN:VEVENT
UID:7e3949cb385eaba937db893cbafc2772be01ed30@pronouns.page
SUMMARY:Tag ohne Diskriminierung
DTSTAMP:20260421T082818Z
DTSTART;VALUE=DATE:20250301
DTEND;VALUE=DATE:20250302
SEQUENCE:1
END:VEVENT
BEGIN:VEVENT
UID:7ce5f67021fa415c9498abc88d3097362b7c1a38@pronouns.page
SUMMARY:Polyamorie-Tag
DTSTAMP:20260421T082818Z
DTSTART;VALUE=DATE:20251123
DTEND;VALUE=DATE:20251124
SEQUENCE:1
END:VEVENT
BEGIN:VEVENT
UID:85f6e1ac84e4cc8e2ba622edd51a15ca3aa219c8@pronouns.page
SUMMARY:Internationaler Tag gegen Homophobie im Sport
DTSTAMP:20260421T082818Z
DTSTART;VALUE=DATE:20250219
DTEND;VALUE=DATE:20250220
SEQUENCE:1
END:VEVENT
BEGIN:VEVENT
UID:05596874ed16954786327adbda4709fc72d385b0@pronouns.page
SUMMARY:LGBTQ+ STEM Tag
DTSTAMP:20260421T082818Z
DTSTART;VALUE=DATE:20251118
DTEND;VALUE=DATE:20251119
SEQUENCE:1
END:VEVENT
BEGIN:VEVENT
UID:3afd08d5c709b7791cf534d3d56c9b948fd572aa@pronouns.page
SUMMARY:Aktionstag für Trans-Depathologisierung
DTSTAMP:20260421T082818Z
DTSTART;VALUE=DATE:20251022
DTEND;VALUE=DATE:20251023
SEQUENCE:1
END:VEVENT
BEGIN:VEVENT
UID:35816e27eb644e3357a2c585dc0957e015590fc6@pronouns.page
SUMMARY:LGBTI-Bücher-Tag
DTSTAMP:20260421T082818Z
DTSTART;VALUE=DATE:20250401
DTEND;VALUE=DATE:20250402
SEQUENCE:1
END:VEVENT
BEGIN:VEVENT
UID:6eec8e6e7e4dabb4bf3015c4bd3ea17d885aef8e@pronouns.page
SUMMARY:Tag der Menschenrechte
DTSTAMP:20260421T082818Z
DTSTART;VALUE=DATE:20251210
DTEND;VALUE=DATE:20251211
SEQUENCE:1
END:VEVENT
BEGIN:VEVENT
UID:12d01c634434648c9ad659ccbbbe6dc7b70de45e@pronouns.page
SUMMARY:Internationaler Tag für Solidarität mit trans* Gefangenen
DTSTAMP:20260421T082818Z
DTSTART;VALUE=DATE:20250122
DTEND;VALUE=DATE:20250123
SEQUENCE:1
END:VEVENT
BEGIN:VEVENT
UID:1362f4a4bde9557447f9eee89bef140be4ae22e1@pronouns.page
SUMMARY:Xenogeschlechtlicher Sichtbarkeitstag
DTSTAMP:20260421T082818Z
DTSTART;VALUE=DATE:20250515
DTEND;VALUE=DATE:20250516
SEQUENCE:1
END:VEVENT
BEGIN:VEVENT
UID:32795fb9f78080682039665c826a7733784a4d13@pronouns.page
SUMMARY:Genderqueerer Sichtbarkeitstag
DTSTAMP:20260421T082818Z
DTSTART;VALUE=DATE:20250425
DTEND;VALUE=DATE:20250426
SEQUENCE:1
END:VEVENT
BEGIN:VEVENT
UID:9df56486dbf6ab7007ac9a9e55b1c2c6a81b2c2f@pronouns.page
SUMMARY:Genderfluider Sichtbarkeitstag
DTSTAMP:20260421T082818Z
DTSTART;VALUE=DATE:20250616
DTEND;VALUE=DATE:20250617
SEQUENCE:1
END:VEVENT
BEGIN:VEVENT
UID:a8057252875a90008f6e2186c3c010902bc6c500@pronouns.page
SUMMARY:Welt-AIDS-Tag
DTSTAMP:20260421T082818Z
DTSTART;VALUE=DATE:20251201
DTEND;VALUE=DATE:20251202
SEQUENCE:1
END:VEVENT
BEGIN:VEVENT
UID:5aa523fce9476e47d1785466fdf7941b4c679385@pronouns.page
SUMMARY:Internationaler Tag der Toleranz
DTSTAMP:20260421T082818Z
DTSTART;VALUE=DATE:20251116
DTEND;VALUE=DATE:20251117
SEQUENCE:1
END:VEVENT
BEGIN:VEVENT
UID:fbcab1bbd71dea6be9384f9213196866909ae334@pronouns.page
SUMMARY:Welttag der sozialen Gerechtigkeit
DTSTAMP:20260421T082818Z
DTSTART;VALUE=DATE:20250220
DTEND;VALUE=DATE:20250221
SEQUENCE:1
END:VEVENT
BEGIN:VEVENT
UID:fc7090b31e7b2094316af08a0ab7451be049043e@pronouns.page
SUMMARY:Christopher Street Day (Jahrestag des Stonewall-Aufstands)
DTSTAMP:20260421T082818Z
DTSTART;VALUE=DATE:20250628
DTEND;VALUE=DATE:20250629
SEQUENCE:1
END:VEVENT
BEGIN:VEVENT
UID:ffeab145374b6d07920deedaad9a10cc64e56a17@pronouns.page
SUMMARY:Bewusstseinstag für häusliche Gewalt gegen LGBTQ
DTSTAMP:20260421T082818Z
DTSTART;VALUE=DATE:20250528
DTEND;VALUE=DATE:20250529
SEQUENCE:1
END:VEVENT
BEGIN:VEVENT
UID:ae06ca3409b6492e3989aae6acbc3a22772a456f@pronouns.page
SUMMARY:polysexueller und polyromantischer Bewusstseinstag
DTSTAMP:20260421T082818Z
DTSTART;VALUE=DATE:20250726
DTEND;VALUE=DATE:20250727
SEQUENCE:1
END:VEVENT
BEGIN:VEVENT
UID:48beb88d50cf34e07df6d27a7aed13cd3c24a771@pronouns.page
SUMMARY:Jahrestag des Massakers im queeren Club Pulse“
DTSTAMP:20260421T082818Z
DTSTART;VALUE=DATE:20250612
DTEND;VALUE=DATE:20250613
SEQUENCE:1
END:VEVENT
BEGIN:VEVENT
UID:b03cf98738528538d2c010bf9f0aa323ddd5cfd7@pronouns.page
SUMMARY:Demigeschlechtlicher Bewusstseinstag
DTSTAMP:20260421T082818Z
DTSTART;VALUE=DATE:20251215
DTEND;VALUE=DATE:20251216
SEQUENCE:1
END:VEVENT
BEGIN:VEVENT
UID:c4369577cde6f062c662282f424efd5c599a65e4@pronouns.page
SUMMARY:Pansexueller Pride Tag
DTSTAMP:20260421T082818Z
DTSTART;VALUE=DATE:20251208
DTEND;VALUE=DATE:20251209
SEQUENCE:1
END:VEVENT
BEGIN:VEVENT
UID:010963225b5126415e2f5c8ceddbec9c3e31884e@pronouns.page
SUMMARY:Tag transmaskuliner Menschen
DTSTAMP:20260421T082818Z
DTSTART;VALUE=DATE:20250220
DTEND;VALUE=DATE:20250221
SEQUENCE:1
END:VEVENT
BEGIN:VEVENT
UID:366aed639cc17261c31b1e26d7d0a80d137dc59e@pronouns.page
SUMMARY:Asexueller Sichtbarkeitstag
DTSTAMP:20260421T082818Z
DTSTART;VALUE=DATE:20250508
DTEND;VALUE=DATE:20250509
SEQUENCE:1
END:VEVENT
BEGIN:VEVENT
UID:5ebe816cf881bc93ee8542d66acc59136e69f607@pronouns.page
SUMMARY:Holocaust-Gedenktag
DTSTAMP:20260421T082818Z
DTSTART;VALUE=DATE:20250127
DTEND;VALUE=DATE:20250128
SEQUENCE:1
END:VEVENT
BEGIN:VEVENT
UID:96b758bf88b208785736bdd5ad58e23ca5b3e6e4@pronouns.page
SUMMARY:Europäischer Tag des Gedenkens an die Opfer von Stalinismus und Nat
	ionalsozialismus
DTSTAMP:20260421T082818Z
DTSTART;VALUE=DATE:20250823
DTEND;VALUE=DATE:20250824
SEQUENCE:1
END:VEVENT
BEGIN:VEVENT
UID:ff9df27d9e04518861d1e130c005eed5c62ba94f@pronouns.page
SUMMARY:Naher Osten und Nordafrika Lesbischer und Queerer Frauen* Pride Tag
DTSTAMP:20260421T082818Z
DTSTART;VALUE=DATE:20250613
DTEND;VALUE=DATE:20250614
SEQUENCE:1
END:VEVENT
BEGIN:VEVENT
UID:ec8f89c63ae64b1b0af7fb8d2c9f6d7f2222a57c@pronouns.page
SUMMARY:Welttag der Suizidprävention
DTSTAMP:20260421T082818Z
DTSTART;VALUE=DATE:20250910
DTEND;VALUE=DATE:20250911
SEQUENCE:1
END:VEVENT
BEGIN:VEVENT
UID:170e112c3e76a0a62650ec662aa4322f0db7f8ab@pronouns.page
SUMMARY:HIV-Test-Tag
DTSTAMP:20260421T082818Z
DTSTART;VALUE=DATE:20250627
DTEND;VALUE=DATE:20250628
SEQUENCE:1
END:VEVENT
BEGIN:VEVENT
UID:b4e55391795a4203c934c31302c9d3a3ef44585c@pronouns.page
SUMMARY:Bewusstseinstag für genderunabhängiges Kleiden
DTSTAMP:20260421T082818Z
DTSTART;VALUE=DATE:20251203
DTEND;VALUE=DATE:20251204
SEQUENCE:1
END:VEVENT
BEGIN:VEVENT
UID:2aeee106201ea6dc1ea2e8917fdafcfe9c14fb70@pronouns.page
SUMMARY:Tag zur Sensibilisierung für sexuelle und reproduktive Gesundheit
DTSTAMP:20260421T082818Z
DTSTART;VALUE=DATE:20250212
DTEND;VALUE=DATE:20250213
SEQUENCE:1
END:VEVENT
BEGIN:VEVENT
UID:b79bd2e573a79ff87b1875eb7ffb1e7cc5172b2c@pronouns.page
SUMMARY:Welttag Sexuelle Gesundheit
DTSTAMP:20260421T082818Z
DTSTART;VALUE=DATE:20250904
DTEND;VALUE=DATE:20250905
SEQUENCE:1
END:VEVENT
BEGIN:VEVENT
UID:22627a89f254e48c86d46e39a9351c22dc08dcdd@pronouns.page
SUMMARY:Welt-AIDS-Impfstofftag
DTSTAMP:20260421T082818Z
DTSTART;VALUE=DATE:20250518
DTEND;VALUE=DATE:20250519
SEQUENCE:1
END:VEVENT
BEGIN:VEVENT
UID:35e358ae7efa3fc85e7601b0e935fb96bd4b83ae@pronouns.page
SUMMARY:Omnisexueller Sichtbarkeitstag
DTSTAMP:20260421T082818Z
DTSTART;VALUE=DATE:20250706
DTEND;VALUE=DATE:20250707
SEQUENCE:1
END:VEVENT
BEGIN:VEVENT
UID:ce4502adcc75e3886d6fe7ef1851cf7c781daa68@pronouns.page
SUMMARY:Tag der queeren Jugend
DTSTAMP:20260421T082818Z
DTSTART;VALUE=DATE:20250630
DTEND;VALUE=DATE:20250701
SEQUENCE:1
END:VEVENT
BEGIN:VEVENT
UID:37ce19272e729d9fbccf6a2d133c21a1e7eea093@pronouns.page
SUMMARY:Tag der Sichtbarkeit für Personen ohne Label
DTSTAMP:20260421T082818Z
DTSTART;VALUE=DATE:20250119
DTEND;VALUE=DATE:20250120
SEQUENCE:1
END:VEVENT
BEGIN:VEVENT
UID:fe47aee56a74216c2518626a88526cb08d910f7a@pronouns.page
SUMMARY:Bewusstseinstag für HIV-Langzeitüberlebende
DTSTAMP:20260421T082818Z
DTSTART;VALUE=DATE:20250605
DTEND;VALUE=DATE:20250606
SEQUENCE:1
END:VEVENT
BEGIN:VEVENT
UID:8279c3492941ec1811bd7a6464f10c48249bfbb0@pronouns.page
SUMMARY:Bewusstseinstag für HIV bei Frauen und Mädchen
DTSTAMP:20260421T082818Z
DTSTART;VALUE=DATE:20250310
DTEND;VALUE=DATE:20250311
SEQUENCE:1
END:VEVENT
BEGIN:VEVENT
UID:39d586b2066152945e28c0b74bec1032855cf306@pronouns.page
SUMMARY:Bewusstseinstag für HIV/AIDS bei Kindern und Jugendlichen
DTSTAMP:20260421T082818Z
DTSTART;VALUE=DATE:20250410
DTEND;VALUE=DATE:20250411
SEQUENCE:1
END:VEVENT
BEGIN:VEVENT
UID:6674a07b33a590a1f9c04877483b318325b3d470@pronouns.page
SUMMARY:Bewusstseinstag für HIV bei schwulen Männern
DTSTAMP:20260421T082818Z
DTSTART;VALUE=DATE:20250927
DTEND;VALUE=DATE:20250928
SEQUENCE:1
END:VEVENT
BEGIN:VEVENT
UID:44b4a88d93eee7f661a47ac10c0c516b376229d3@pronouns.page
SUMMARY:Bewusstseinstag für HIV bei Schwarzen Menschen
DTSTAMP:20260421T082818Z
DTSTART;VALUE=DATE:20250207
DTEND;VALUE=DATE:20250208
SEQUENCE:1
END:VEVENT
BEGIN:VEVENT
UID:0bd2f2fd3043638b4b2eca3cef615ec3464f1a72@pronouns.page
SUMMARY:Bewusstseinstag für HIV/AIDS und Alterung
DTSTAMP:20260421T082818Z
DTSTART;VALUE=DATE:20250918
DTEND;VALUE=DATE:20250919
SEQUENCE:1
END:VEVENT
BEGIN:VEVENT
UID:842471f5610ce04258895d5750173d7342fca110@pronouns.page
SUMMARY:Tag der HIV-Tests für trans* Menschen
DTSTAMP:20260421T082818Z
DTSTART;VALUE=DATE:20250418
DTEND;VALUE=DATE:20250419
SEQUENCE:1
END:VEVENT
BEGIN:VEVENT
UID:ffd733587fad961d6850d77258a4f3016a4c5fd4@pronouns.page
SUMMARY:Tag der Sichtbarkeit von trans* Kindern und Jugendlichen
DTSTAMP:20260421T082818Z
DTSTART;VALUE=DATE:20250514
DTEND;VALUE=DATE:20250515
SEQUENCE:1
END:VEVENT
BEGIN:VEVENT
UID:bafa9c5fa79784f921b95dd08d2996ca1b46b4c8@pronouns.page
SUMMARY:Multispektrum Lesbischer Sichtbarkeits- und Bewusstseinstag
DTSTAMP:20260421T082818Z
DTSTART;VALUE=DATE:20250526
DTEND;VALUE=DATE:20250527
SEQUENCE:1
END:VEVENT
BEGIN:VEVENT
UID:f24466ef3978644a692cd92bbac743e82d7eb36e@pronouns.page
SUMMARY:Multispektrum Lesbische Sichtbarkeits- und Bewusstseinswoche
DTSTAMP:20260421T082818Z
DTSTART;VALUE=DATE:20250522
DTEND;VALUE=DATE:20250529
SEQUENCE:1
END:VEVENT
BEGIN:VEVENT
UID:0c842192b8af6d04b465e544cac8627d9d0f96b6@pronouns.page
SUMMARY:Internationaler Hurentag
DTSTAMP:20260421T082818Z
DTSTART;VALUE=DATE:20250602
DTEND;VALUE=DATE:20250603
SEQUENCE:1
END:VEVENT
BEGIN:VEVENT
UID:a9a7dc256ae26dc661d710863dfc7ed397a91ddb@pronouns.page
SUMMARY:Sexarbeiter*innen Pride
DTSTAMP:20260421T082818Z
DTSTART;VALUE=DATE:20250914
DTEND;VALUE=DATE:20250915
SEQUENCE:1
END:VEVENT
BEGIN:VEVENT
UID:c349138dcf5aab73c6c2627a2ce909d2ff3fbe19@pronouns.page
SUMMARY:Internationaler Tag der Rechte der Sexarbeiter*innen
DTSTAMP:20260421T082818Z
DTSTART;VALUE=DATE:20250303
DTEND;VALUE=DATE:20250304
SEQUENCE:1
END:VEVENT
BEGIN:VEVENT
UID:56886658286184156357b203676f15fc68b47a68@pronouns.page
SUMMARY:Internationaler Tag zur Beendigung von Gewalt an Sexarbeiter*innen
DTSTAMP:20260421T082818Z
DTSTART;VALUE=DATE:20251217
DTEND;VALUE=DATE:20251218
SEQUENCE:1
END:VEVENT
BEGIN:VEVENT
UID:497120f69250d4ae078d6d6066aabd879fa08205@pronouns.page
SUMMARY:Omnisexueller and Omniromantischer Pride und Bewusstseinstag
DTSTAMP:20260421T082818Z
DTSTART;VALUE=DATE:20250606
DTEND;VALUE=DATE:20250607
SEQUENCE:1
END:VEVENT
BEGIN:VEVENT
UID:56d57185cfd793816b25519e7f78aa46493aa7bc@pronouns.page
SUMMARY:Multispektrum Schwuler Sichtbarkeits- und Bewusstseinstag
DTSTAMP:20260421T082818Z
DTSTART;VALUE=DATE:20250707
DTEND;VALUE=DATE:20250708
SEQUENCE:1
END:VEVENT
BEGIN:VEVENT
UID:973b3bbac525b38342dc93f50ebfdb591cecfdbc@pronouns.page
SUMMARY:Multispektrum Schwule Sichtbarkeits- und Bewusstseinswoche
DTSTAMP:20260421T082818Z
DTSTART;VALUE=DATE:20250704
DTEND;VALUE=DATE:20250711
SEQUENCE:1
END:VEVENT
BEGIN:VEVENT
UID:fb0f76903473336aedf7f0d698593fa25eb2b518@pronouns.page
SUMMARY:HIV ist kein Verbrechen Tag
DTSTAMP:20260421T082818Z
DTSTART;VALUE=DATE:20250228
DTEND;VALUE=DATE:20250301
SEQUENCE:1
END:VEVENT
BEGIN:VEVENT
UID:f02a90d183f4542fa30ee94ef3da0c19eff7f237@pronouns.page
SUMMARY:Tag der trans* Flaggen
DTSTAMP:20260421T082818Z
DTSTART;VALUE=DATE:20250819
DTEND;VALUE=DATE:20250820
SEQUENCE:1
END:VEVENT
BEGIN:VEVENT
UID:4efb2b297609459c6dbe30a31b6a7c7022bfe662@pronouns.page
SUMMARY:Alan Turing Tag
DTSTAMP:20260421T082818Z
DTSTART;VALUE=DATE:20250623
DTEND;VALUE=DATE:20250624
SEQUENCE:1
END:VEVENT
BEGIN:VEVENT
UID:ce86abd4a489eecd4fdef536bc6611fd92ae34a3@pronouns.page
SUMMARY:Tag nicht-binärer Kinder
DTSTAMP:20260421T082818Z
DTSTART;VALUE=DATE:20251001
DTEND;VALUE=DATE:20251002
SEQUENCE:1
END:VEVENT
BEGIN:VEVENT
UID:b9f1509b1a93c8528281cc51f229baa74fbfdd60@pronouns.page
SUMMARY:Masculine Lesbian Visibility and Awareness Day
DTSTAMP:20260421T082818Z
DTSTART;VALUE=DATE:20250804
DTEND;VALUE=DATE:20250805
SEQUENCE:1
END:VEVENT
BEGIN:VEVENT
UID:b730f77a5872187c4e121d9aaf5c0f18392471f5@pronouns.page
SUMMARY:Masculine Lesbian Visibility and Awareness Week
DTSTAMP:20260421T082818Z
DTSTART;VALUE=DATE:20250801
DTEND;VALUE=DATE:20250808
SEQUENCE:1
END:VEVENT
BEGIN:VEVENT
UID:4bfeeade6536f22fbcb9efb488c767b545bcf630@pronouns.page
SUMMARY:Tag der bisexuellen Creator*innen
DTSTAMP:20260421T082818Z
DTSTART;VALUE=DATE:20250415
DTEND;VALUE=DATE:20250416
SEQUENCE:1
END:VEVENT
BEGIN:VEVENT
UID:afcc7a268aab8b53cc35aa974eed47194bb073e1@pronouns.page
SUMMARY:Aplatonischer Sichtbarkeitstag
DTSTAMP:20260421T082818Z
DTSTART;VALUE=DATE:20250504
DTEND;VALUE=DATE:20250505
SEQUENCE:1
END:VEVENT
BEGIN:VEVENT
UID:38eb0a1b585a87e32692ce015177d44a8eb161a4@pronouns.page
SUMMARY:Aromantischer Sichtbarkeitstag
DTSTAMP:20260421T082818Z
DTSTART;VALUE=DATE:20250605
DTEND;VALUE=DATE:20250606
SEQUENCE:1
END:VEVENT
BEGIN:VEVENT
UID:2e28bcb3dd0a35eef34deec95311a6166ef2cbce@pronouns.page
SUMMARY:Tag des aromantischen Spektrums
DTSTAMP:20260421T082818Z
DTSTART;VALUE=DATE:20250825
DTEND;VALUE=DATE:20250826
SEQUENCE:1
END:VEVENT
BEGIN:VEVENT
UID:843c81d4e3f8c68ea95e896ab8208f5018f6b86e@pronouns.page
SUMMARY:Nicht-Monogamer Sichtbarkeitstag
DTSTAMP:20260421T082818Z
DTSTART;VALUE=DATE:20250715
DTEND;VALUE=DATE:20250716
SEQUENCE:1
END:VEVENT
BEGIN:VEVENT
UID:deeb20d61c032d3cfc205832fc9eec56aed897a0@pronouns.page
SUMMARY:Aromantische Bewusstseinswoche
DTSTAMP:20260421T082818Z
DTSTART;VALUE=DATE:20250216
DTEND;VALUE=DATE:20250223
SEQUENCE:1
END:VEVENT
BEGIN:VEVENT
UID:672b45b74b2b118fc76a5919019dbf9cc12d7f21@pronouns.page
SUMMARY:Woche der Asexualität
DTSTAMP:20260421T082818Z
DTSTART;VALUE=DATE:20251019
DTEND;VALUE=DATE:20251026
SEQUENCE:1
END:VEVENT
BEGIN:VEVENT
UID:c072c11a5ca181fbf642735533c8fabae598d7ed@pronouns.page
SUMMARY:Bisexuelle Bewusstseinswoche
DTSTAMP:20260421T082818Z
DTSTART;VALUE=DATE:20250916
DTEND;VALUE=DATE:20250923
SEQUENCE:1
END:VEVENT
BEGIN:VEVENT
UID:7ce7c1380a9b408e68d55dc3827f6c8e1b90ae13@pronouns.page
SUMMARY:Tag der Pronomen
DTSTAMP:20260421T082818Z
DTSTART;VALUE=DATE:20251015
DTEND;VALUE=DATE:20251016
SEQUENCE:1
END:VEVENT
BEGIN:VEVENT
UID:c3f0390389369a3a90cb57f14f8a72b41c69afcf@pronouns.page
SUMMARY:Transgeschlechtliche Bewusstseinswoche
DTSTAMP:20260421T082818Z
DTSTART;VALUE=DATE:20251113
DTEND;VALUE=DATE:20251120
SEQUENCE:1
END:VEVENT
BEGIN:VEVENT
UID:8d1adfa261909b4ed23e175de17ba5d8c43c4bb0@pronouns.page
SUMMARY:Tag der trans* Eltern
DTSTAMP:20260421T082818Z
DTSTART;VALUE=DATE:20251102
DTEND;VALUE=DATE:20251103
SEQUENCE:1
END:VEVENT
BEGIN:VEVENT
UID:32fd455445a5c073fbd4a291252f63bd54bab039@pronouns.page
SUMMARY:Woche des nicht-binären Bewusstseins
DTSTAMP:20260421T082818Z
DTSTART;VALUE=DATE:20250707
DTEND;VALUE=DATE:20250714
SEQUENCE:1
END:VEVENT
BEGIN:VEVENT
UID:fe521d912e9ce362d4ea3f9dc58bc6e33d29f142@pronouns.page
SUMMARY:Tag der lesbischen Tante
DTSTAMP:20260421T082818Z
DTSTART;VALUE=DATE:20250713
DTEND;VALUE=DATE:20250714
SEQUENCE:1
END:VEVENT
BEGIN:VEVENT
UID:2e47e2e0ef04a2af7333b9692de51759591f25a1@pronouns.page
SUMMARY:Tag des schwulen Onkels
DTSTAMP:20260421T082818Z
DTSTART;VALUE=DATE:20250810
DTEND;VALUE=DATE:20250811
SEQUENCE:1
END:VEVENT
BEGIN:VEVENT
UID:e1b1c86485e6c6a3d3936cfa768d2ef06f2cd248@pronouns.page
SUMMARY:AIDS Candlelight Memorial
DTSTAMP:20260421T082818Z
DTSTART;VALUE=DATE:20250518
DTEND;VALUE=DATE:20250519
SEQUENCE:1
END:VEVENT
BEGIN:VEVENT
UID:9d0b72aa19adea195dcdd715017c2907fa6ff6f2@pronouns.page
SUMMARY:Woche zur Sichtbarkeit queerer Gesundheit
DTSTAMP:20260421T082818Z
DTSTART;VALUE=DATE:20250324
DTEND;VALUE=DATE:20250329
SEQUENCE:1
END:VEVENT
BEGIN:VEVENT
UID:62013f15bc7c1fc82dbe07aa8e4f17877c63e1fd@pronouns.page
SUMMARY:Woche der lesbischen Sichtbarkeit
DTSTAMP:20260421T082818Z
DTSTART;VALUE=DATE:20250421
DTEND;VALUE=DATE:20250428
SEQUENCE:1
END:VEVENT
BEGIN:VEVENT
UID:f43272d7e7fd32739544731a309af527a77a0cec@pronouns.page
SUMMARY:Regenbogenfamilientag
DTSTAMP:20260421T082818Z
DTSTART;VALUE=DATE:20250504
DTEND;VALUE=DATE:20250505
SEQUENCE:1
END:VEVENT
BEGIN:VEVENT
UID:972952358d6e3d562695aad9a414deeecd356f06@pronouns.page
SUMMARY:Geschichtsmonat von queeren Schwarzen Menschen
DTSTAMP:20260421T082818Z
DTSTART;VALUE=DATE:20250217
DTEND;VALUE=DATE:20250224
SEQUENCE:1
END:VEVENT
BEGIN:VEVENT
UID:80e63a9e0ca59828d496c29d67b21c73f57ad0b0@pronouns.page
SUMMARY:Hassverbrechen Sensibilisierungswoche
DTSTAMP:20260421T082818Z
DTSTART;VALUE=DATE:20251011
DTEND;VALUE=DATE:20251019
SEQUENCE:1
END:VEVENT
BEGIN:VEVENT
UID:8550eff126ca9cc9515a55f3376e0312421cee9b@pronouns.page
SUMMARY:Genderfluide Bewusstseinswoche
DTSTAMP:20260421T082818Z
DTSTART;VALUE=DATE:20251017
DTEND;VALUE=DATE:20251024
SEQUENCE:1
END:VEVENT
BEGIN:VEVENT
UID:78979a977cf435da40b51a418a3d177d7377c4c4@pronouns.page
SUMMARY:Pansexuelle und panromantische Bewusstseinswoche
DTSTAMP:20260421T082818Z
DTSTART;VALUE=DATE:20251206
DTEND;VALUE=DATE:20251213
SEQUENCE:1
END:VEVENT
BEGIN:VEVENT
UID:c2b897bae34ccdc52213d3d93cfca82b5db3a31c@pronouns.page
SUMMARY:Gender-Expansiver Elterntag
DTSTAMP:20260421T082818Z
DTSTART;VALUE=DATE:20251207
DTEND;VALUE=DATE:20251208
SEQUENCE:1
END:VEVENT
BEGIN:VEVENT
UID:50b3b765fcc5373405ca5644c12eeb9c1078f451@pronouns.page
SUMMARY:Woche der Transition
DTSTAMP:20260421T082818Z
DTSTART;VALUE=DATE:20250127
DTEND;VALUE=DATE:20250201
SEQUENCE:1
END:VEVENT
BEGIN:VEVENT
UID:579cfc74842575d17681412b6f7572f9ef205b84@pronouns.page
SUMMARY:Tag der nicht-binären Eltern
DTSTAMP:20260421T082818Z
DTSTART;VALUE=DATE:20250420
DTEND;VALUE=DATE:20250421
SEQUENCE:1
END:VEVENT
BEGIN:VEVENT
UID:fac506d05cce083d0fbc3287dcb313ffd6b5232a@pronouns.page
SUMMARY:Europäische HIV-Testungswoche - Frühling
DTSTAMP:20260421T082818Z
DTSTART;VALUE=DATE:20250516
DTEND;VALUE=DATE:20250523
SEQUENCE:1
END:VEVENT
BEGIN:VEVENT
UID:5aaaf1963657d25c059a08fbdef599e3598df8c2@pronouns.page
SUMMARY:Europäische HIV-Testungswoche - Herbst
DTSTAMP:20260421T082818Z
DTSTART;VALUE=DATE:20251121
DTEND;VALUE=DATE:20251128
SEQUENCE:1
END:VEVENT
BEGIN:VEVENT
UID:7365094efce6357982a7779b85838ed27b4393cc@pronouns.page
SUMMARY:Queer History Month (Monat der queeren Geschichte) in Deutschland u
	nd Kuba
DTSTAMP:20260421T082818Z
DTSTART;VALUE=DATE:20250501
DTEND;VALUE=DATE:20250601
SEQUENCE:1
END:VEVENT
BEGIN:VEVENT
UID:81e25a505f8941040df91001ba85daa9970adeac@pronouns.page
SUMMARY:Jahrestag der Ehe für alle in Belgien
DTSTAMP:20260421T082818Z
DTSTART;VALUE=DATE:20250601
DTEND;VALUE=DATE:20250602
SEQUENCE:1
END:VEVENT
BEGIN:VEVENT
UID:38c5a981c10e26b938bdc5ebaa3949da2d77577c@pronouns.page
SUMMARY:Jahrestag der Ehe für alle in Luxemburg
DTSTAMP:20260421T082818Z
DTSTART;VALUE=DATE:20250101
DTEND;VALUE=DATE:20250102
SEQUENCE:1
END:VEVENT
BEGIN:VEVENT
UID:16802715eb1463139d28ce5b795c59ec9645fc79@pronouns.page
SUMMARY:Jahrestag der Ehe für alle in Deutschland
DTSTAMP:20260421T082818Z
DTSTART;VALUE=DATE:20251001
DTEND;VALUE=DATE:20251002
SEQUENCE:1
END:VEVENT
BEGIN:VEVENT
UID:aeeaf5f62a88f6cc4dfc8917c4314a6454caab57@pronouns.page
SUMMARY:Jahrestag der dritten Option im Personenstandsgesetz in Deutschland
DTSTAMP:20260421T082818Z
DTSTART;VALUE=DATE:20251222
DTEND;VALUE=DATE:20251223
SEQUENCE:1
END:VEVENT
BEGIN:VEVENT
UID:e7bac3ed1d6d39567ce4bc154243cf9bc6513a2b@pronouns.page
SUMMARY:Jahrestag der Ehe für alle in Österreich
DTSTAMP:20260421T082818Z
DTSTART;VALUE=DATE:20250101
DTEND;VALUE=DATE:20250102
SEQUENCE:1
END:VEVENT
BEGIN:VEVENT
UID:bdcf296bf0c2b9fd229330a37a09703135f7e971@pronouns.page
SUMMARY:Jahrestag der Ehe für alle in der Schweiz
DTSTAMP:20260421T082818Z
DTSTART;VALUE=DATE:20250701
DTEND;VALUE=DATE:20250702
SEQUENCE:1
END:VEVENT
BEGIN:VEVENT
UID:2ed54dbb665c9c2864cbe97ef709eaf39a3d0af5@pronouns.page
SUMMARY:Selbstbestimmungsgesetz in Deutschland
DTSTAMP:20260421T082818Z
DTSTART;VALUE=DATE:20251101
DTEND;VALUE=DATE:20251102
SEQUENCE:1
END:VEVENT
BEGIN:VEVENT
UID:9eb647f027b63edd746087f42644232f2e304b83@pronouns.page
SUMMARY:Ehenamen- und Geburtsnamensrechtreform in Deutschland
DTSTAMP:20260421T082818Z
DTSTART;VALUE=DATE:20250501
DTEND;VALUE=DATE:20250502
SEQUENCE:1
END:VEVENT
END:VCALENDAR
